BEGIN:VCALENDAR
VERSION:2.0
PRODID:-//endtimeprophets.de - ECPv6.15.15//NONSGML v1.0//EN
CALSCALE:GREGORIAN
METHOD:PUBLISH
X-WR-CALNAME:endtimeprophets.de
X-ORIGINAL-URL:https://endtimeprophets.de
X-WR-CALDESC:Veranstaltungen für endtimeprophets.de
REFRESH-INTERVAL;VALUE=DURATION:PT1H
X-Robots-Tag:noindex
X-PUBLISHED-TTL:PT1H
BEGIN:VTIMEZONE
TZID:Europe/Berlin
BEGIN:DAYLIGHT
TZOFFSETFROM:+0100
TZOFFSETTO:+0200
TZNAME:CEST
DTSTART:20250330T010000
END:DAYLIGHT
BEGIN:STANDARD
TZOFFSETFROM:+0200
TZOFFSETTO:+0100
TZNAME:CET
DTSTART:20251026T010000
END:STANDARD
BEGIN:DAYLIGHT
TZOFFSETFROM:+0100
TZOFFSETTO:+0200
TZNAME:CEST
DTSTART:20260329T010000
END:DAYLIGHT
BEGIN:STANDARD
TZOFFSETFROM:+0200
TZOFFSETTO:+0100
TZNAME:CET
DTSTART:20261025T010000
END:STANDARD
BEGIN:DAYLIGHT
TZOFFSETFROM:+0100
TZOFFSETTO:+0200
TZNAME:CEST
DTSTART:20270328T010000
END:DAYLIGHT
BEGIN:STANDARD
TZOFFSETFROM:+0200
TZOFFSETTO:+0100
TZNAME:CET
DTSTART:20271031T010000
END:STANDARD
END:VTIMEZONE
BEGIN:VEVENT
DTSTART;VALUE=DATE:20260506
DTEND;VALUE=DATE:20260507
DTSTAMP:20260425T141139
CREATED:20260419T115328Z
LAST-MODIFIED:20260419T115634Z
UID:1761-1778025600-1778111999@endtimeprophets.de
SUMMARY:M'era Luna Newcomer Contest - Please vote for us until 2026/05/06
DESCRIPTION:Bis zum 06.05.2026 könnt ihr hier für uns voten:\nhttps://meraluna.de/newcomer/? \n  \n 
URL:https://endtimeprophets.de/event/mera-luna-newcomer-contest-please-vote-for-us/
LOCATION:https://meraluna.de/newcomer/?
END:VEVENT
BEGIN:VEVENT
DTSTART;VALUE=DATE:20260528
DTEND;VALUE=DATE:20260531
DTSTAMP:20260425T141139
CREATED:20260419T114817Z
LAST-MODIFIED:20260419T114907Z
UID:1754-1779926400-1780185599@endtimeprophets.de
SUMMARY:Iron Fest 2026
DESCRIPTION:Endtime Prophets live auf dem Iron Fest 2026! \nhttps://tickets.mplus.rocks/store/ironfest/ \n  \n 
URL:https://endtimeprophets.de/event/iron-fest-2026/
LOCATION:Ohmbachsee\, Gries\, Ohmbachsee\, Gries\, Rheinland-Pfalz\, 66901\, Germany
END:VEVENT
END:VCALENDAR